BEGIN:VCALENDAR
PRODID:Dafna Lender Events
CALSCALE:GREGORIAN
VERSION:2.0
METHOD:PUBLISH
TRANSP:TRANSPARENT
X-FROM-URL:https://staging.dafnalender.com/events/pesi-2nd-annual-kids-summ
	it
X-WR-TIMEZONE:America/New_York
BEGIN:VTIMEZONE
TZID:America/New_York
TZURL:http://tzurl.org/zoneinfo-outlook/America/New_York
X-LIC-LOCATION:America/New_York
BEGIN:DAYLIGHT
TZOFFSETFROM:-0500
TZOFFSETTO:-0400
TZNAME:EDT
DTSTART:19700308T020000
RRULE:FREQ=YEARLY;BYMONTH=3;BYDAY=2SU
END:DAYLIGHT
BEGIN:STANDARD
TZOFFSETFROM:-0400
TZOFFSETTO:-0500
TZNAME:EST
DTSTART:19701101T020000
RRULE:FREQ=YEARLY;BYMONTH=11;BYDAY=1SU
END:STANDARD
END:VTIMEZONE
BEGIN:VEVENT
UID:37044
DTSTAMP:20210804T50000Z
DTSTART:20210804T50000Z
DTEND:20210805T50000Z
LOCATION:Online Meeting/Webinar
SUMMARY:PESI 2nd Annual Kids Summit
DESCRIPTION:As treating professionals, it’s no wonder we lie awake at night
	 trying to figure out how to help our young clients. From increased depres
	sion, anxiety, worry, and trauma symptoms to fear related to “post covid” 
	reentry, racial injustice, school shootings, and political unrest... \n\n 
	... the last 18 months have taken a toll on their mental, social-emotional
	, and physical health. \n\n We’ve done our best to navigate these rapidly 
	changing and unsettling events ... And now we have the opportunity to get 
	it right, prioritize our young client’s needs, and set them on a path for 
	successful reentry! \n\n But how do you put a plan in place when each chil
	d’s needs are unique? How do you tackle mental health, social-emotional we
	ll-being, and academic concerns when they’re all a priority? \n\n That’s w
	hy we’ve gathered the leading voices in the child mental health field to b
	reak it all down so we can power through this together!\n\n URL:https://st
	aging.dafnalender.com/events/pesi-2nd-annual-kids-summit
END:VEVENT
END:VCALENDAR