BEGIN:VCALENDAR
PRODID:Dafna Lender Events
CALSCALE:GREGORIAN
VERSION:2.0
METHOD:PUBLISH
TRANSP:TRANSPARENT
X-FROM-URL:https://staging.dafnalender.com/events/הכשרה-בסיסית-theraplay-le
	vel-1
X-WR-TIMEZONE:America/New_York
BEGIN:VTIMEZONE
TZID:America/New_York
TZURL:http://tzurl.org/zoneinfo-outlook/America/New_York
X-LIC-LOCATION:America/New_York
BEGIN:DAYLIGHT
TZOFFSETFROM:-0500
TZOFFSETTO:-0400
TZNAME:EDT
DTSTART:19700308T020000
RRULE:FREQ=YEARLY;BYMONTH=3;BYDAY=2SU
END:DAYLIGHT
BEGIN:STANDARD
TZOFFSETFROM:-0400
TZOFFSETTO:-0500
TZNAME:EST
DTSTART:19701101T020000
RRULE:FREQ=YEARLY;BYMONTH=11;BYDAY=1SU
END:STANDARD
END:VTIMEZONE
BEGIN:VEVENT
UID:36013
DTSTAMP:20211013T50000Z
DTSTART:20211013T50000Z
DTEND:20211013T50000Z
LOCATION:Online Meeting/Webinar
SUMMARY:הכשרה בסיסית - Theraplay® Level 1
DESCRIPTION:הכשרה בסיסית - Theraplay® Level 1הכשרה היברידיתמנחות: דפנה לנדר
	 וסיון הרטמן\n\n 6 ימי רביעי | החל מה -13.10.21 שיתקיימו באופן משולב : 4 מ
	פגשים מקוונים | 15:00-18:152 מפגשים פרונטלים | 15:00-21:00\n\n שמחים לפתוח
	 מחזור חדש בתכנית ההכשרה הבסיסית "Theraplay – Level 1".גישת Theraplay היא 
	גישה חוויתית מבוססת התקשרות לטיפול דיאדי המבקשת לתת מענה לצרכים רגשיים של 
	הילד באופן המותאם ל"כאן ועכשיו" של הילד וההורה באמצעות פעילויות חוויתיות ד
	ירקטיביות.\n\n במהלך הקורס:\n\n המשתתף יוצא עם ידע וכלים מעשיים לשימוש מיי
	די בחדר הטיפולים.המשתתפים מתנסים בעצמם במגוון הפעילויות המשחקיות השונות.כח
	לק מהכשרת הבסיס המשתתפים יוצרים תוכנית טיפולית לאחד המטופלים שלהם.ההכשרות 
	כוללת שימוש בקטעי וידאו רבים המדגימים טיפול בלקוחות מגוונים.בסיום הכשרת הב
	סיס המשתתפים מקבלים תעודה בינלאומית מהמכון האמריקאי וניתןלהתחיל לטפל עם הד
	רכה.
URL:https://staging.dafnalender.com/events/הכשרה-בסיסית-theraplay-level-1
END:VEVENT
END:VCALENDAR