BEGIN:VCALENDAR
PRODID:Dafna Lender Events
CALSCALE:GREGORIAN
VERSION:2.0
METHOD:PUBLISH
TRANSP:TRANSPARENT
X-FROM-URL:https://staging.dafnalender.com/events/harnessing-your-social-en
	gagement-system
X-WR-TIMEZONE:America/New_York
BEGIN:VTIMEZONE
TZID:America/New_York
TZURL:http://tzurl.org/zoneinfo-outlook/America/New_York
X-LIC-LOCATION:America/New_York
BEGIN:DAYLIGHT
TZOFFSETFROM:-0500
TZOFFSETTO:-0400
TZNAME:EDT
DTSTART:19700308T020000
RRULE:FREQ=YEARLY;BYMONTH=3;BYDAY=2SU
END:DAYLIGHT
BEGIN:STANDARD
TZOFFSETFROM:-0400
TZOFFSETTO:-0500
TZNAME:EST
DTSTART:19701101T020000
RRULE:FREQ=YEARLY;BYMONTH=11;BYDAY=1SU
END:STANDARD
END:VTIMEZONE
BEGIN:VEVENT
UID:35910
DTSTAMP:20210730T140000Z
DTSTART:20210730T140000Z
DTEND:20210730T170000Z
LOCATION:Online Meeting/Webinar
SUMMARY:Harnessing Your Social Engagement System
DESCRIPTION:Do you know therapists who seem to have “the magic touch” when 
	it comes to getting clients to trust and connect with them? What if there 
	are actual behaviors that you can learn and incorporate into your way of b
	eing with clients that can solicit openness, relaxation and trust?\n\n In 
	this workshop, you will learn the behaviors of the Social Engagement Syste
	m - a brain state wherein our vocalization, facial expressions, and gestur
	es promote an open, connected, collaborative state in the partner with who
	m we are communicating. Through activating this system, the therapist can 
	send safety messages to the brains of mistrusting clients, thereby helping
	 them become more open to new relational experiences.\n\n $50 for Students
	/Non-Profits, $100 for Professionals, $150 for CEs (Group Discounts Availa
	ble) 3 CE credits available for NY-based: LMHCs, LCSWs and LMSWs\n\n
To register email: admin@embodiedmindnyc.com\n\n URL:https://staging.dafnal
	ender.com/events/harnessing-your-social-engagement-system
END:VEVENT
END:VCALENDAR